BEGIN:VCALENDAR
VERSION:2.0
PRODID:-//wp-events-plugin.com//7.2.3.1//EN
BEGIN:VEVENT
UID:99@diiukraine.org
DTSTART;TZID=Europe/Amsterdam:20260429T190000
DTEND;TZID=Europe/Amsterdam:20260429T203000
DTSTAMP:20260421T090449Z
URL:https://diiukraine.org/events/zaproshuiemo-doluchytysia-do-vebinaru-re
 iestr-zbytkiv-dlia-ukrainy-dlia-choho-khto-i-za-iakykh-pidstav-mozhe-zvern
 utysia/
SUMMARY:Запрошуємо долучитися до вебінару «
 Реєстр збитків для України: для чого\, хт
 о і за яких підстав може звернутися»
DESCRIPTION:Інкубатор демократичних ініціати
 в запрошує долучитися до вебінару «Реєс
 тр збитків для України: для чого\, хто і з
 а яких підстав може звернутися».\n\nЗахід 
 буде корисним для всіх\, хто постраждав в
 ід війни або має таких близьких і хоче от
 римати знання\, яку допоможуть зрозуміти
 \, чи може подати заяву до Реєстру збиткі
 в для України\, за яких умов це можливо та
  як зробити це правильно без зайвої плут
 анини.\n\nКоли?\n\n29 квітня о 19:00. Тривалість
  – 1\,5 години.\n\nДе?\n\nОнлайн-зустріч на пл
 атформі Zoom. Під час вебінару передбачено
  обговорення та можливість поставити за
 питання\, тому бажано мати мікрофон.\n\nПр
 о що йтиметься?\n\n1) Реєстр збитків для Ук
 раїни (далі - Реєстр) — міжнародна база д
 аних під егідою Ради Європи\n\n2) Умови зве
 рнення до Реєстру \n\n3) Порядок звернення
  до Реєстру \n\n4) Категорії заяв при зверн
 енні до Реєстру\n\n5) На що треба звертати 
 уваги заявникам при зверненні до Реєстр
 у\n\nСпікер: Андрій Євстігнєєв — доктор ю
 ридичних наук\, професор\, адвокат. Викла
 дає в Київському національному універси
 теті імені Тараса Шевченка з 2007 року. Сер
 тифікований експерт Національної асоці
 ації адвокатів України\, член Ради Коміт
 ету НААУ з виборчого права. Має досвід ро
 боти експертом та лектором програм ПРОО
 Н\, NDI та IRI. Автор і співавтор понад 100 зак
 онопроєктів України.\n\nМодератор: Назарі
 й Боярський — правозахисник\, член Правл
 іння ГО «Інкубатор демократичних ініці
 атив»\, тренер з прав людини та громадянс
 ької освіти.\n\nЯк взяти участь?\n\nДо 28 кві
 тня 2026 року заповніть коротку реєстраці
 йну форму: https://forms.gle/H2VHrenksK22x97U9 \n\nПісля р
 еєстрації ви отримаєте електронний лист
  із посиланням для підключення.\n\nУчасть 
 у вебінарі безоплатна.\n\nНагадуємо\, що п
 рацює наша консультаційна гаряча лінія 
 для людей\, які постраждали внаслідок ві
 йни та планують подати заяву до Реєстру 
 збитків для України. Наші юристи безкошт
 овно консультують\, допомагають розібра
 тися з процедурою та підготувати докуме
 нти.\n\nГаряча лінія працює щодня з 15:00 до 1
 9:00. \n\nТелефон для звернень: +380 (63) 800 78 91 \n
 \nЕлектронна пошта: info@diiukraine.org\n\nПроєкт «
 Доступ до правосуддя та гідності: гумані
 тарна підтримка постраждалих від війни 
 у поданні заяв про компенсацію» реалізу
 ється ГО «Інкубатор демократичних ініц
 іатив» за підтримки LIBERECO – Partnership for Human Ri
 ghts (Швейцарія).\n\n&nbsp\;\n\n&nbsp\;\n\n
ATTACH;FMTTYPE=image/jpeg:https://diiukraine.org/wp-content/uploads/2026/0
 4/Kartynka-22.png
CATEGORIES:Вебінар
END:VEVENT
BEGIN:VTIMEZONE
TZID:Europe/Amsterdam
X-LIC-LOCATION:Europe/Amsterdam
BEGIN:DAYLIGHT
DTSTART:20260329T030000
TZOFFSETFROM:+0100
TZOFFSETTO:+0200
TZNAME:CEST
END:DAYLIGHT
END:VTIMEZONE
END:VCALENDAR